BEGIN:VCALENDAR
VERSION:2.0
PRODID:-//DIOCESI DI ROMA - ECPv4.6.14.1//NONSGML v1.0//EN
CALSCALE:GREGORIAN
METHOD:PUBLISH
X-WR-CALNAME:DIOCESI DI ROMA
X-ORIGINAL-URL:https://www.diocesidiroma.it
X-WR-CALDESC:Eventi per DIOCESI DI ROMA
BEGIN:VEVENT
DTSTART;TZID=Europe/Rome:20191028T000000
DTEND;TZID=Europe/Rome:20191028T000000
DTSTAMP:20260421T042020
CREATED:20190917T082500Z
LAST-MODIFIED:20190917T082500Z
UID:8441-1572220800-1572220800@www.diocesidiroma.it
SUMMARY:Consiglio presbiterale
DESCRIPTION:Consiglio presbiterale. \n
URL:https://www.diocesidiroma.it/event/consiglio-presbiterale-7/
CATEGORIES:In Diocesi
END:VEVENT
END:VCALENDAR