BEGIN:VCALENDAR
VERSION:2.0
PRODID:-//DIOCESI DI ROMA - ECPv4.6.14.1//NONSGML v1.0//EN
CALSCALE:GREGORIAN
METHOD:PUBLISH
X-WR-CALNAME:DIOCESI DI ROMA
X-ORIGINAL-URL:https://www.diocesidiroma.it
X-WR-CALDESC:Eventi per DIOCESI DI ROMA
BEGIN:VEVENT
DTSTART;TZID=Europe/Rome:20240419T110000
DTEND;TZID=Europe/Rome:20240419T110000
DTSTAMP:20260424T193715
CREATED:20240325T101029Z
LAST-MODIFIED:20240325T101029Z
UID:29310-1713524400-1713524400@www.diocesidiroma.it
SUMMARY:Consulta Economia - Ufficio in Vicariato  (Uff. past. sociale)
DESCRIPTION:Consulta Economia – Ufficio in Vicariato  (Uff. past. sociale) \n
URL:https://www.diocesidiroma.it/event/consulta-economia-ufficio-in-vicariato-uff-past-sociale-2/
CATEGORIES:In Diocesi,Iniziative degli Uffici
END:VEVENT
END:VCALENDAR