BEGIN:VCALENDAR
VERSION:2.0
PRODID:-//DIOCESI DI ROMA - ECPv4.6.14.1//NONSGML v1.0//EN
CALSCALE:GREGORIAN
METHOD:PUBLISH
X-WR-CALNAME:DIOCESI DI ROMA
X-ORIGINAL-URL:https://www.diocesidiroma.it
X-WR-CALDESC:Eventi per DIOCESI DI ROMA
BEGIN:VEVENT
DTSTART;TZID=Europe/Rome:20231215T110000
DTEND;TZID=Europe/Rome:20231215T110000
DTSTAMP:20260424T055026
CREATED:20231115T142542Z
LAST-MODIFIED:20231115T142542Z
UID:27931-1702638000-1702638000@www.diocesidiroma.it
SUMMARY:Consulta Economia - Ufficio in Vicariato (Uff. past. sociale)
DESCRIPTION:Consulta Economia – Ufficio in Vicariato (Uff. past. sociale) \n
URL:https://www.diocesidiroma.it/event/consulta-economia-ufficio-in-vicariato-uff-past-sociale/
CATEGORIES:In Diocesi,Iniziative degli Uffici
END:VEVENT
END:VCALENDAR