BEGIN:VCALENDAR
VERSION:2.0
PRODID:-//DIOCESI DI ROMA - ECPv4.6.14.1//NONSGML v1.0//EN
CALSCALE:GREGORIAN
METHOD:PUBLISH
X-WR-CALNAME:DIOCESI DI ROMA
X-ORIGINAL-URL:https://www.diocesidiroma.it
X-WR-CALDESC:Eventi per DIOCESI DI ROMA
BEGIN:VEVENT
DTSTART;TZID=Europe/Rome:20231020T110000
DTEND;TZID=Europe/Rome:20231020T110000
DTSTAMP:20260423T201417
CREATED:20231006T082053Z
LAST-MODIFIED:20231006T082053Z
UID:27477-1697799600-1697799600@www.diocesidiroma.it
SUMMARY:Consulta Lavoro - Ufficio in Vicariato - (Uff. past. sociale)
DESCRIPTION:Consulta Lavoro – Ufficio in Vicariato – (Uff. past. sociale) \n
URL:https://www.diocesidiroma.it/event/consulta-lavoro-ufficio-in-vicariato-uff-past-sociale/
CATEGORIES:In Diocesi,Iniziative degli Uffici
END:VEVENT
END:VCALENDAR