BEGIN:VCALENDAR
VERSION:2.0
PRODID:-//DIOCESI DI ROMA - ECPv4.6.14.1//NONSGML v1.0//EN
CALSCALE:GREGORIAN
METHOD:PUBLISH
X-WR-CALNAME:DIOCESI DI ROMA
X-ORIGINAL-URL:https://www.diocesidiroma.it
X-WR-CALDESC:Eventi per DIOCESI DI ROMA
BEGIN:VEVENT
DTSTART;TZID=Europe/Rome:20240119T110000
DTEND;TZID=Europe/Rome:20240119T110000
DTSTAMP:20260423T025517
CREATED:20240102T110609Z
LAST-MODIFIED:20240102T110609Z
UID:28269-1705662000-1705662000@www.diocesidiroma.it
SUMMARY:Consulta Pace - Ufficio in Vicariato - (Uff. past. sociale)
DESCRIPTION: Consulta Pace – Ufficio in Vicariato – (Uff. past. sociale) \n
URL:https://www.diocesidiroma.it/event/consulta-pace-ufficio-in-vicariato-uff-past-sociale/
CATEGORIES:In Diocesi,Iniziative degli Uffici
END:VEVENT
END:VCALENDAR