BEGIN:VCALENDAR
VERSION:2.0
PRODID:-//DIOCESI DI ROMA - ECPv4.6.14.1//NONSGML v1.0//EN
CALSCALE:GREGORIAN
METHOD:PUBLISH
X-WR-CALNAME:DIOCESI DI ROMA
X-ORIGINAL-URL:https://www.diocesidiroma.it
X-WR-CALDESC:Eventi per DIOCESI DI ROMA
BEGIN:VEVENT
DTSTART;VALUE=DATE:20180203
DTEND;VALUE=DATE:20180204
DTSTAMP:20260425T124044
CREATED:20171228T132431Z
LAST-MODIFIED:20171228T132431Z
UID:551-1517616000-1517702399@www.diocesidiroma.it
SUMMARY:Convegno dei Ginecologi e Ostetrici in occasione della 40° Giornata per la vita
DESCRIPTION:
URL:https://www.diocesidiroma.it/event/convegno-dei-ginecologi-e-ostetrici-in-occasione-della-40-giornata-per-la-vita/
CATEGORIES:Iniziative degli Uffici
END:VEVENT
END:VCALENDAR