BEGIN:VCALENDAR
VERSION:2.0
PRODID:-//DIOCESI DI ROMA - ECPv4.6.14.1//NONSGML v1.0//EN
CALSCALE:GREGORIAN
METHOD:PUBLISH
X-WR-CALNAME:DIOCESI DI ROMA
X-ORIGINAL-URL:https://www.diocesidiroma.it
X-WR-CALDESC:Eventi per DIOCESI DI ROMA
BEGIN:VEVENT
DTSTART;TZID=Europe/Rome:20180927T190000
DTEND;TZID=Europe/Rome:20180927T190000
DTSTAMP:20260424T071528
CREATED:20180912T110638Z
LAST-MODIFIED:20180912T111031Z
UID:4350-1538074800-1538074800@www.diocesidiroma.it
SUMMARY:Convegno di presentazione del programma del Servizio per la cultura e l'università
DESCRIPTION:Presso la Sala Conferenze del Pontificio Seminario Romano Maggiore\, presentazione del programma pastorale 2018/2019 del Servizio per la cultura e l’università del Vicariato di Roma. \n
URL:https://www.diocesidiroma.it/event/convegno-di-presentazione-del-programma-del-servizio-per-la-cultura-e-luniversita/
CATEGORIES:In Diocesi
END:VEVENT
END:VCALENDAR