BEGIN:VCALENDAR
VERSION:2.0
PRODID:-//DIOCESI DI ROMA - ECPv4.6.14.1//NONSGML v1.0//EN
CALSCALE:GREGORIAN
METHOD:PUBLISH
X-WR-CALNAME:DIOCESI DI ROMA
X-ORIGINAL-URL:https://www.diocesidiroma.it
X-WR-CALDESC:Eventi per DIOCESI DI ROMA
BEGIN:VEVENT
DTSTART;TZID=Europe/Rome:20231010T170000
DTEND;TZID=Europe/Rome:20231010T193000
DTSTAMP:20260424T060225
CREATED:20231006T071316Z
LAST-MODIFIED:20231006T071316Z
UID:27453-1696957200-1696966200@www.diocesidiroma.it
SUMMARY:Convegno "Fede e letteratura: il caso Manzoni a 150 anni dalla morte" - Pontificia Università Lateranense (Aula Magna) (Uff. cultura\, Uff. past. universitaria e Uff. past. scolastica)
DESCRIPTION:Convegno “Fede e letteratura: il caso Manzoni a 150 anni dalla morte” – Pontificia Università Lateranense (Aula Magna) (Uff. cultura\, Uff. past. universitaria e Uff. past. scolastica) \n
URL:https://www.diocesidiroma.it/event/convegno-fede-e-letteratura-il-caso-manzoni-a-150-anni-dalla-morte-pontificia-universita-lateranense-aula-magna-uff-cultura-uff-past-universitaria-e-uff-past-scolastica/
CATEGORIES:In Diocesi,Iniziative degli Uffici
END:VEVENT
END:VCALENDAR