BEGIN:VCALENDAR
VERSION:2.0
PRODID:-//DIOCESI DI ROMA - ECPv4.6.14.1//NONSGML v1.0//EN
CALSCALE:GREGORIAN
METHOD:PUBLISH
X-WR-CALNAME:DIOCESI DI ROMA
X-ORIGINAL-URL:https://www.diocesidiroma.it
X-WR-CALDESC:Eventi per DIOCESI DI ROMA
BEGIN:VEVENT
DTSTART;TZID=Europe/Rome:20251209T100000
DTEND;TZID=Europe/Rome:20251209T100000
DTSTAMP:20260422T174747
CREATED:20251206T121732Z
LAST-MODIFIED:20251206T121732Z
UID:38958-1765274400-1765274400@www.diocesidiroma.it
SUMMARY:Convegno Human Economic Forum su Coscienza e IA (Palazzo S. Macuto)
DESCRIPTION:Convegno Human Economic Forum su Coscienza e IA (Palazzo S. Macuto) \n
URL:https://www.diocesidiroma.it/event/convegno-human-economic-forum-su-coscienza-e-ia-palazzo-s-macuto/
CATEGORIES:Vicario Generale
END:VEVENT
END:VCALENDAR