BEGIN:VCALENDAR
VERSION:2.0
PRODID:-//DIOCESI DI ROMA - ECPv4.6.14.1//NONSGML v1.0//EN
CALSCALE:GREGORIAN
METHOD:PUBLISH
X-WR-CALNAME:DIOCESI DI ROMA
X-ORIGINAL-URL:https://www.diocesidiroma.it
X-WR-CALDESC:Eventi per DIOCESI DI ROMA
BEGIN:VEVENT
DTSTART;TZID=Europe/Rome:20181011T183000
DTEND;TZID=Europe/Rome:20181011T183000
DTSTAMP:20260421T234748
CREATED:20180912T125548Z
LAST-MODIFIED:20180912T125704Z
UID:4389-1539282600-1539282600@www.diocesidiroma.it
SUMMARY:Convegno "La carità politica di Paolo VI"
DESCRIPTION:Convegno “La carità politica di Paolo VI” presso Sant’Ivo alla Sapienza. \n
URL:https://www.diocesidiroma.it/event/convegno-la-carita-politica-di-paolo-vi/
CATEGORIES:In Diocesi
END:VEVENT
END:VCALENDAR