BEGIN:VCALENDAR
VERSION:2.0
PRODID:-//DIOCESI DI ROMA - ECPv4.6.14.1//NONSGML v1.0//EN
CALSCALE:GREGORIAN
METHOD:PUBLISH
X-WR-CALNAME:DIOCESI DI ROMA
X-ORIGINAL-URL:https://www.diocesidiroma.it
X-WR-CALDESC:Eventi per DIOCESI DI ROMA
BEGIN:VEVENT
DTSTART;TZID=Europe/Rome:20251028T090000
DTEND;TZID=Europe/Rome:20251028T090000
DTSTAMP:20260423T201543
CREATED:20250910T110949Z
LAST-MODIFIED:20250910T110949Z
UID:36950-1761642000-1761642000@www.diocesidiroma.it
SUMMARY:Convegno "Quarant'anni a sostegno dei Sacerdoti" presso la Pontificia Università Lateranense (Istituto Interdiocesano Sostentamento Clero)
DESCRIPTION:Convegno “Quarant’anni a sostegno dei Sacerdoti” presso la Pontificia Università Lateranense (Istituto Interdiocesano Sostentamento Clero) \n
URL:https://www.diocesidiroma.it/event/convegno-quarantanni-a-sostegno-dei-sacerdoti-presso-la-pontificia-universita-lateranense-istituto-interdiocesano-sostentamento-clero/
CATEGORIES:In Diocesi,Iniziative degli Uffici
END:VEVENT
END:VCALENDAR