BEGIN:VCALENDAR
VERSION:2.0
PRODID:-//DIOCESI DI ROMA - ECPv4.6.14.1//NONSGML v1.0//EN
CALSCALE:GREGORIAN
METHOD:PUBLISH
X-WR-CALNAME:DIOCESI DI ROMA
X-ORIGINAL-URL:https://www.diocesidiroma.it
X-WR-CALDESC:Eventi per DIOCESI DI ROMA
BEGIN:VEVENT
DTSTART;TZID=Europe/Rome:20251125T143000
DTEND;TZID=Europe/Rome:20251125T170000
DTSTAMP:20260423T182449
CREATED:20251119T145826Z
LAST-MODIFIED:20251119T145826Z
UID:38681-1764081000-1764090000@www.diocesidiroma.it
SUMMARY:Convegno “Rispettare Custodire Generare” del Servizio per la tutela dei minori e delle persone vulnerabili della diocesi di Roma
DESCRIPTION:Convegno “Rispettare Custodire Generare” del Servizio per la tutela dei minori e delle persone vulnerabili della diocesi di Roma  \n
URL:https://www.diocesidiroma.it/event/convegno-rispettare-custodire-generare-del-servizio-per-la-tutela-dei-minori-e-delle-persone-vulnerabili-della-diocesi-di-roma/
CATEGORIES:Vicario Generale
END:VEVENT
END:VCALENDAR