BEGIN:VCALENDAR
VERSION:2.0
PRODID:-//DIOCESI DI ROMA - ECPv4.6.14.1//NONSGML v1.0//EN
CALSCALE:GREGORIAN
METHOD:PUBLISH
X-WR-CALNAME:DIOCESI DI ROMA
X-ORIGINAL-URL:https://www.diocesidiroma.it
X-WR-CALDESC:Eventi per DIOCESI DI ROMA
BEGIN:VEVENT
DTSTART;TZID=Europe/Rome:20240301T000000
DTEND;TZID=Europe/Rome:20240301T000000
DTSTAMP:20260421T110526
CREATED:20240125T074835Z
LAST-MODIFIED:20240125T075220Z
UID:28642-1709251200-1709251200@www.diocesidiroma.it
SUMMARY:Convegno su “Giovani\, affetti\, identità” - presso l'Università Pontificia Salesiana (Uff. past. giovanile)
DESCRIPTION:Convegno su “Giovani\, affetti\, identità” – 1°-3 marzo presso l’Università Pontificia Salesiana (Uff. past. giovanile) \n
URL:https://www.diocesidiroma.it/event/convegno-su-giovani-affetti-identita-presso-luniversita-pontificia-salesiana-uff-past-giovanile/
CATEGORIES:Iniziative degli Uffici
END:VEVENT
END:VCALENDAR