BEGIN:VCALENDAR
VERSION:2.0
PRODID:-//DIOCESI DI ROMA - ECPv4.6.14.1//NONSGML v1.0//EN
CALSCALE:GREGORIAN
METHOD:PUBLISH
X-WR-CALNAME:DIOCESI DI ROMA
X-ORIGINAL-URL:https://www.diocesidiroma.it
X-WR-CALDESC:Eventi per DIOCESI DI ROMA
BEGIN:VEVENT
DTSTART;TZID=Europe/Rome:20251016T100000
DTEND;TZID=Europe/Rome:20251016T120000
DTSTAMP:20260421T025147
CREATED:20251010T065109Z
LAST-MODIFIED:20251010T093740Z
UID:37730-1760608800-1760616000@www.diocesidiroma.it
SUMMARY:Tavola rotonda sulla realtà giovanile\, tra movida e codice etico
DESCRIPTION:Tavola rotonda sulla realtà giovanile\, tra movida e codice etico \n
URL:https://www.diocesidiroma.it/event/convegno-su-giovani-e-discoteche-finche-ce-vita-ce-movida/
CATEGORIES:Vicario Generale
END:VEVENT
END:VCALENDAR