BEGIN:VCALENDAR
VERSION:2.0
PRODID:-//DIOCESI DI ROMA - ECPv4.6.14.1//NONSGML v1.0//EN
CALSCALE:GREGORIAN
METHOD:PUBLISH
X-WR-CALNAME:DIOCESI DI ROMA
X-ORIGINAL-URL:https://www.diocesidiroma.it
X-WR-CALDESC:Eventi per DIOCESI DI ROMA
BEGIN:VEVENT
DTSTART;TZID=Europe/Rome:20180531T183000
DTEND;TZID=Europe/Rome:20180531T183000
DTSTAMP:20260421T150644
CREATED:20180525T083845Z
LAST-MODIFIED:20180525T084306Z
UID:3210-1527791400-1527791400@www.diocesidiroma.it
SUMMARY:Convegno sulla riforma liturgica al Sant'Anselmo
DESCRIPTION:“La Riforma liturgica nella diocesi di Roma”: convegno al Pontificio Istituto Liturgico Sant’Anselmo (piazza Cavalieri di Malta\, 5) \n
URL:https://www.diocesidiroma.it/event/convegno-sulla-riforma-liturgica-al-santanselmo/
CATEGORIES:In Diocesi
END:VEVENT
END:VCALENDAR