BEGIN:VCALENDAR
VERSION:2.0
PRODID:-//DIOCESI DI ROMA - ECPv4.6.14.1//NONSGML v1.0//EN
CALSCALE:GREGORIAN
METHOD:PUBLISH
X-WR-CALNAME:DIOCESI DI ROMA
X-ORIGINAL-URL:https://www.diocesidiroma.it
X-WR-CALDESC:Eventi per DIOCESI DI ROMA
BEGIN:VEVENT
DTSTART;TZID=Europe/Rome:20241127T180000
DTEND;TZID=Europe/Rome:20241127T200000
DTSTAMP:20260425T101621
CREATED:20241009T075255Z
LAST-MODIFIED:20241009T075255Z
UID:31393-1732730400-1732737600@www.diocesidiroma.it
SUMMARY:Corso di formazione al volontariato diocesano (Uff. Past. Anziani e Malati)
DESCRIPTION:Corso di formazione al volontariato diocesano (Uff. Past. Anziani e Malati) \n
URL:https://www.diocesidiroma.it/event/corso-di-formazione-al-volontariato-diocesano-uff-past-anziani-e-malati-3/
CATEGORIES:In Diocesi,Iniziative degli Uffici
END:VEVENT
END:VCALENDAR