BEGIN:VCALENDAR
VERSION:2.0
PRODID:-//DIOCESI DI ROMA - ECPv4.6.14.1//NONSGML v1.0//EN
CALSCALE:GREGORIAN
METHOD:PUBLISH
X-WR-CALNAME:DIOCESI DI ROMA
X-ORIGINAL-URL:https://www.diocesidiroma.it
X-WR-CALDESC:Eventi per DIOCESI DI ROMA
BEGIN:VEVENT
DTSTART;TZID=Europe/Rome:20251120T210000
DTEND;TZID=Europe/Rome:20251120T223000
DTSTAMP:20260423T022627
CREATED:20250910T121741Z
LAST-MODIFIED:20250910T121750Z
UID:37001-1763672400-1763677800@www.diocesidiroma.it
SUMMARY:Corso di formazione base per catechisti
DESCRIPTION:Corso di formazione base per catechisti – online  (Uff. per la Catechesi) \n
URL:https://www.diocesidiroma.it/event/corso-di-formazione-base-per-catechisti-3/
END:VEVENT
END:VCALENDAR