BEGIN:VCALENDAR
VERSION:2.0
PRODID:-//DIOCESI DI ROMA - ECPv4.6.14.1//NONSGML v1.0//EN
CALSCALE:GREGORIAN
METHOD:PUBLISH
X-WR-CALNAME:DIOCESI DI ROMA
X-ORIGINAL-URL:https://www.diocesidiroma.it
X-WR-CALDESC:Eventi per DIOCESI DI ROMA
BEGIN:VEVENT
DTSTART;TZID=Europe/Rome:20251030T210000
DTEND;TZID=Europe/Rome:20251030T223000
DTSTAMP:20260422T073023
CREATED:20250910T111200Z
LAST-MODIFIED:20250910T111208Z
UID:36956-1761858000-1761863400@www.diocesidiroma.it
SUMMARY:Corso di formazione base per catechisti - online dalle (Uff. per la Catechesi)
DESCRIPTION:Corso di formazione base per catechisti – online dalle (Uff. per la Catechesi) \n
URL:https://www.diocesidiroma.it/event/corso-di-formazione-base-per-catechisti-online-dalle-uff-per-la-catechesi/
CATEGORIES:In Diocesi,Iniziative degli Uffici
END:VEVENT
END:VCALENDAR