BEGIN:VCALENDAR
VERSION:2.0
PRODID:-//DIOCESI DI ROMA - ECPv4.6.14.1//NONSGML v1.0//EN
CALSCALE:GREGORIAN
METHOD:PUBLISH
X-WR-CALNAME:DIOCESI DI ROMA
X-ORIGINAL-URL:https://www.diocesidiroma.it
X-WR-CALDESC:Eventi per DIOCESI DI ROMA
BEGIN:VEVENT
DTSTART;TZID=Europe/Rome:20251023T210000
DTEND;TZID=Europe/Rome:20251023T223000
DTSTAMP:20260422T170216
CREATED:20250910T110419Z
LAST-MODIFIED:20250910T110419Z
UID:36934-1761253200-1761258600@www.diocesidiroma.it
SUMMARY:Corso di formazione base per catechisti - online (Uff. per la Catechesi)
DESCRIPTION:Corso di formazione base per catechisti – online (Uff. per la Catechesi) \n
URL:https://www.diocesidiroma.it/event/corso-di-formazione-base-per-catechisti-online-uff-per-la-catechesi-4/
CATEGORIES:In Diocesi,Iniziative degli Uffici
END:VEVENT
END:VCALENDAR