BEGIN:VCALENDAR
VERSION:2.0
PRODID:-//DIOCESI DI ROMA - ECPv4.6.14.1//NONSGML v1.0//EN
CALSCALE:GREGORIAN
METHOD:PUBLISH
X-WR-CALNAME:DIOCESI DI ROMA
X-ORIGINAL-URL:https://www.diocesidiroma.it
X-WR-CALDESC:Eventi per DIOCESI DI ROMA
BEGIN:VEVENT
DTSTART;TZID=Europe/Rome:20211104T180000
DTEND;TZID=Europe/Rome:20211104T200000
DTSTAMP:20260422T161942
CREATED:20211001T083901Z
LAST-MODIFIED:20211001T083901Z
UID:18209-1636048800-1636056000@www.diocesidiroma.it
SUMMARY:Corso di formazione di base per i catechisti dell'iniziazione cristiana dei bambini modalità on line; a cura dell'Ufficio catechistico
DESCRIPTION:Corso di formazione di base per i catechisti dell’iniziazione cristiana dei bambini modalità on line; a cura dell’Ufficio catechistico \n
URL:https://www.diocesidiroma.it/event/corso-di-formazione-di-base-per-i-catechisti-delliniziazione-cristiana-dei-bambini-modalita-on-line-a-cura-dellufficio-catechistico-5/
CATEGORIES:Iniziative degli Uffici
END:VEVENT
END:VCALENDAR