BEGIN:VCALENDAR
VERSION:2.0
PRODID:-//DIOCESI DI ROMA - ECPv4.6.14.1//NONSGML v1.0//EN
CALSCALE:GREGORIAN
METHOD:PUBLISH
X-WR-CALNAME:DIOCESI DI ROMA
X-ORIGINAL-URL:https://www.diocesidiroma.it
X-WR-CALDESC:Eventi per DIOCESI DI ROMA
BEGIN:VEVENT
DTSTART;TZID=Europe/Rome:20221020T180000
DTEND;TZID=Europe/Rome:20221020T193000
DTSTAMP:20260423T190608
CREATED:20221013T110509Z
LAST-MODIFIED:20221013T110509Z
UID:23333-1666288800-1666294200@www.diocesidiroma.it
SUMMARY:Corso di formazione di base per i catechisti dell'iniziazione cristiana dei bambini - online (Uff. Catechistico)
DESCRIPTION:Corso di formazione di base per i catechisti dell’iniziazione cristiana dei bambini – online (Uff. Catechistico) \n
URL:https://www.diocesidiroma.it/event/corso-di-formazione-di-base-per-i-catechisti-delliniziazione-cristiana-dei-bambini-online-uff-catechistico/
CATEGORIES:In Diocesi,Iniziative degli Uffici
END:VEVENT
END:VCALENDAR