BEGIN:VCALENDAR
VERSION:2.0
PRODID:-//DIOCESI DI ROMA - ECPv4.6.14.1//NONSGML v1.0//EN
CALSCALE:GREGORIAN
METHOD:PUBLISH
X-WR-CALNAME:DIOCESI DI ROMA
X-ORIGINAL-URL:https://www.diocesidiroma.it
X-WR-CALDESC:Eventi per DIOCESI DI ROMA
BEGIN:VEVENT
DTSTART;TZID=Europe/Rome:20260228T093000
DTEND;TZID=Europe/Rome:20260228T120000
DTSTAMP:20260423T201441
CREATED:20251001T075047Z
LAST-MODIFIED:20251001T075047Z
UID:37491-1772271000-1772280000@www.diocesidiroma.it
SUMMARY:Corso di formazione “I fondamenti della fede espressi nell’arte delle chiese di Roma”
DESCRIPTION:Corso di formazione “I fondamenti della fede espressi nell’arte delle chiese di Roma” (Uff. Cultura) \n
URL:https://www.diocesidiroma.it/event/corso-di-formazione-i-fondamenti-della-fede-espressi-nellarte-delle-chiese-di-roma-2/
CATEGORIES:In Diocesi,Iniziative degli Uffici
END:VEVENT
END:VCALENDAR