BEGIN:VCALENDAR
VERSION:2.0
PRODID:-//DIOCESI DI ROMA - ECPv4.6.14.1//NONSGML v1.0//EN
CALSCALE:GREGORIAN
METHOD:PUBLISH
X-WR-CALNAME:DIOCESI DI ROMA
X-ORIGINAL-URL:https://www.diocesidiroma.it
X-WR-CALDESC:Eventi per DIOCESI DI ROMA
BEGIN:VEVENT
DTSTART;TZID=Europe/Rome:20221021T000000
DTEND;TZID=Europe/Rome:20221021T000000
DTSTAMP:20260423T230043
CREATED:20221013T110639Z
LAST-MODIFIED:20221013T110639Z
UID:23335-1666310400-1666310400@www.diocesidiroma.it
SUMMARY:Corso di formazione in Architettura e arti per la liturgia - online (Uff. Liturgico)
DESCRIPTION:Corso di formazione in Architettura e arti per la liturgia – online dal 21 ottobre al 13 maggio (Uff. Liturgico) \n
URL:https://www.diocesidiroma.it/event/corso-di-formazione-in-architettura-e-arti-per-la-liturgia-online-uff-liturgico/
CATEGORIES:In Diocesi,Iniziative degli Uffici
END:VEVENT
END:VCALENDAR