BEGIN:VCALENDAR
VERSION:2.0
PRODID:-//DIOCESI DI ROMA - ECPv4.6.14.1//NONSGML v1.0//EN
CALSCALE:GREGORIAN
METHOD:PUBLISH
X-WR-CALNAME:DIOCESI DI ROMA
X-ORIGINAL-URL:https://www.diocesidiroma.it
X-WR-CALDESC:Eventi per DIOCESI DI ROMA
BEGIN:VEVENT
DTSTART;TZID=Europe/Rome:20191126T183000
DTEND;TZID=Europe/Rome:20191126T200000
DTSTAMP:20260422T113336
CREATED:20191118T082111Z
LAST-MODIFIED:20191122T110257Z
UID:9301-1574793000-1574798400@www.diocesidiroma.it
SUMMARY:"Un di più di misericordia". Corso di formazione in pastorale dei malati e dei sofferenti aperto a tutti
DESCRIPTION:“Un di più di misericordia”. Corso di formazione in pastorale dei malati e dei sofferenti aperto a tutti al Pontificio Seminario Romano Maggiore\, a cura del Centro per la pastorale sanitaria.  \n
URL:https://www.diocesidiroma.it/event/corso-di-formazione-in-pastorale-dei-malati-e-dei-sofferenti-aperto-a-tutti-4/
CATEGORIES:Iniziative degli Uffici
END:VEVENT
END:VCALENDAR