BEGIN:VCALENDAR
VERSION:2.0
PRODID:-//DIOCESI DI ROMA - ECPv4.6.14.1//NONSGML v1.0//EN
CALSCALE:GREGORIAN
METHOD:PUBLISH
X-WR-CALNAME:DIOCESI DI ROMA
X-ORIGINAL-URL:https://www.diocesidiroma.it
X-WR-CALDESC:Eventi per DIOCESI DI ROMA
BEGIN:VEVENT
DTSTART;TZID=Europe/Rome:20200218T190000
DTEND;TZID=Europe/Rome:20200218T203000
DTSTAMP:20260424T114148
CREATED:20190925T144027Z
LAST-MODIFIED:20190925T144027Z
UID:8750-1582052400-1582057800@www.diocesidiroma.it
SUMMARY:Corso di formazione in pastorale dei malati e dei sofferenti aperto a tutti al Pontificio Seminario Romano Maggiore
DESCRIPTION:Corso di formazione in pastorale dei malati e dei sofferenti aperto a tutti al Pontificio Seminario Romano Maggiore\, a cura del Centro per la pastorale sanitaria. \n
URL:https://www.diocesidiroma.it/event/corso-di-formazione-in-pastorale-dei-malati-e-dei-sofferenti-aperto-a-tutti-al-pontificio-seminario-romano-maggiore-2/
CATEGORIES:Iniziative degli Uffici
END:VEVENT
END:VCALENDAR