BEGIN:VCALENDAR
VERSION:2.0
PRODID:-//DIOCESI DI ROMA - ECPv4.6.14.1//NONSGML v1.0//EN
CALSCALE:GREGORIAN
METHOD:PUBLISH
X-WR-CALNAME:DIOCESI DI ROMA
X-ORIGINAL-URL:https://www.diocesidiroma.it
X-WR-CALDESC:Eventi per DIOCESI DI ROMA
BEGIN:VEVENT
DTSTART;TZID=Europe/Rome:20260509T090000
DTEND;TZID=Europe/Rome:20260509T123000
DTSTAMP:20260420T235826
CREATED:20251021T103223Z
LAST-MODIFIED:20251021T103223Z
UID:38079-1778317200-1778329800@www.diocesidiroma.it
SUMMARY:Corso di Formazione Missionaria 2026
DESCRIPTION:Corso di Formazione Missionaria 2026\n(Uff. per la cooperazione missionaria tra le chiese)  \n
URL:https://www.diocesidiroma.it/event/corso-di-formazione-missionaria-2026-3/
CATEGORIES:In Diocesi,Iniziative degli Uffici
END:VEVENT
END:VCALENDAR