BEGIN:VCALENDAR
VERSION:2.0
PRODID:-//DIOCESI DI ROMA - ECPv4.6.14.1//NONSGML v1.0//EN
CALSCALE:GREGORIAN
METHOD:PUBLISH
X-WR-CALNAME:DIOCESI DI ROMA
X-ORIGINAL-URL:https://www.diocesidiroma.it
X-WR-CALDESC:Eventi per DIOCESI DI ROMA
BEGIN:VEVENT
DTSTART;TZID=Europe/Rome:20260110T090000
DTEND;TZID=Europe/Rome:20260110T123000
DTSTAMP:20260422T103244
CREATED:20250911T090201Z
LAST-MODIFIED:20260107T083714Z
UID:37111-1768035600-1768048200@www.diocesidiroma.it
SUMMARY:Corso di Formazione Missionaria 2026 Sala della Conciliazione (Uff. per la cooperazione missionaria tra le chiese)
DESCRIPTION:Corso di Formazione Missionaria 2026 Sala della Conciliazione (Uff. per la cooperazione missionaria tra le chiese) \n
URL:https://www.diocesidiroma.it/event/corso-di-formazione-missionaria-2026-sala-della-conciliazione-uff-per-la-cooperazione-missionaria-tra-le-chiese/
CATEGORIES:In Diocesi,Iniziative degli Uffici
END:VEVENT
END:VCALENDAR