BEGIN:VCALENDAR
VERSION:2.0
PRODID:-//DIOCESI DI ROMA - ECPv4.6.14.1//NONSGML v1.0//EN
CALSCALE:GREGORIAN
METHOD:PUBLISH
X-WR-CALNAME:DIOCESI DI ROMA
X-ORIGINAL-URL:https://www.diocesidiroma.it
X-WR-CALDESC:Eventi per DIOCESI DI ROMA
BEGIN:VEVENT
DTSTART;TZID=Europe/Rome:20221206T173000
DTEND;TZID=Europe/Rome:20221206T190000
DTSTAMP:20260424T202622
CREATED:20221128T100114Z
LAST-MODIFIED:20221128T100114Z
UID:24290-1670347800-1670353200@www.diocesidiroma.it
SUMMARY:Corso di formazione per le guide turistiche "Arte nelle Chiese. Caravaggio e il '600" - Parrocchia San Giovanni Battista dei Fiorentini (Uff. Cultura e Università)
DESCRIPTION:Corso di formazione per le guide turistiche “Arte nelle Chiese. Caravaggio e il ‘600” – Parrocchia San Giovanni Battista dei Fiorentini (Uff. Cultura e Università) \n
URL:https://www.diocesidiroma.it/event/corso-di-formazione-per-le-guide-turistiche-arte-nelle-chiese-caravaggio-e-il-600-parrocchia-san-giovanni-battista-dei-fiorentini-uff-cultura-e-universita/
CATEGORIES:Iniziative degli Uffici
END:VEVENT
END:VCALENDAR