BEGIN:VCALENDAR
VERSION:2.0
PRODID:-//DIOCESI DI ROMA - ECPv4.6.14.1//NONSGML v1.0//EN
CALSCALE:GREGORIAN
METHOD:PUBLISH
X-WR-CALNAME:DIOCESI DI ROMA
X-ORIGINAL-URL:https://www.diocesidiroma.it
X-WR-CALDESC:Eventi per DIOCESI DI ROMA
BEGIN:VEVENT
DTSTART;TZID=Europe/Rome:20201124T000000
DTEND;TZID=Europe/Rome:20201124T000000
DTSTAMP:20260426T005609
CREATED:20200923T161129Z
LAST-MODIFIED:20200923T161136Z
UID:11825-1606176000-1606176000@www.diocesidiroma.it
SUMMARY:Corso di formazione per le guide turistiche “Il Medioevo a Roma”
DESCRIPTION:Corso di formazione per le guide turistiche “Il Medioevo a Roma”\, a cura del Servizio per la cultura e l’università. \n
URL:https://www.diocesidiroma.it/event/corso-di-formazione-per-le-guide-turistiche-il-medioevo-a-roma-2/
CATEGORIES:Iniziative degli Uffici
END:VEVENT
END:VCALENDAR