BEGIN:VCALENDAR
VERSION:2.0
PRODID:-//DIOCESI DI ROMA - ECPv4.6.14.1//NONSGML v1.0//EN
CALSCALE:GREGORIAN
METHOD:PUBLISH
X-WR-CALNAME:DIOCESI DI ROMA
X-ORIGINAL-URL:https://www.diocesidiroma.it
X-WR-CALDESC:Eventi per DIOCESI DI ROMA
BEGIN:VEVENT
DTSTART;TZID=Europe/Rome:20230225T100000
DTEND;TZID=Europe/Rome:20230225T123000
DTSTAMP:20260423T212230
CREATED:20230201T151752Z
LAST-MODIFIED:20230201T151752Z
UID:25164-1677319200-1677328200@www.diocesidiroma.it
SUMMARY:Corso di formazione permanente: La preghiera - Monastero dei Santi Quattro Coronati (Uff. Catechistico)
DESCRIPTION:Corso di formazione permanente: La preghiera – Monastero dei Santi Quattro Coronati (Uff. Catechistico) \n
URL:https://www.diocesidiroma.it/event/corso-di-formazione-permanente-la-preghiera-monastero-dei-santi-quattro-coronati-uff-catechistico/
CATEGORIES:In Diocesi,Iniziative degli Uffici
END:VEVENT
END:VCALENDAR