BEGIN:VCALENDAR
VERSION:2.0
PRODID:-//DIOCESI DI ROMA - ECPv4.6.14.1//NONSGML v1.0//EN
CALSCALE:GREGORIAN
METHOD:PUBLISH
X-WR-CALNAME:DIOCESI DI ROMA
X-ORIGINAL-URL:https://www.diocesidiroma.it
X-WR-CALDESC:Eventi per DIOCESI DI ROMA
BEGIN:VEVENT
DTSTART;TZID=Europe/Rome:20230309T210000
DTEND;TZID=Europe/Rome:20230309T220000
DTSTAMP:20260421T010608
CREATED:20230301T155701Z
LAST-MODIFIED:20230301T155701Z
UID:25496-1678395600-1678399200@www.diocesidiroma.it
SUMMARY:Corso di formazione permanente: La preghiera - online (Uff. Catechistico)
DESCRIPTION:Corso di formazione permanente: La preghiera – online (Uff. Catechistico) \n
URL:https://www.diocesidiroma.it/event/corso-di-formazione-permanente-la-preghiera-online-uff-catechistico-5/
CATEGORIES:In Diocesi,Iniziative degli Uffici
END:VEVENT
END:VCALENDAR