BEGIN:VCALENDAR
VERSION:2.0
PRODID:-//DIOCESI DI ROMA - ECPv4.6.14.1//NONSGML v1.0//EN
CALSCALE:GREGORIAN
METHOD:PUBLISH
X-WR-CALNAME:DIOCESI DI ROMA
X-ORIGINAL-URL:https://www.diocesidiroma.it
X-WR-CALDESC:Eventi per DIOCESI DI ROMA
BEGIN:VEVENT
DTSTART;TZID=Europe/Rome:20240111T190000
DTEND;TZID=Europe/Rome:20240111T203000
DTSTAMP:20260422T162048
CREATED:20240102T104604Z
LAST-MODIFIED:20240102T104604Z
UID:28249-1704999600-1705005000@www.diocesidiroma.it
SUMMARY:Corso di formazione permanente per Lettori e Accoliti - Pontificio Istituto Liturgico Sant'Anselmo (Uff.  form. liturgica)
DESCRIPTION:Corso di formazione permanente per Lettori e Accoliti – Pontificio Istituto Liturgico Sant’Anselmo (Uff.  form. liturgica) \n
URL:https://www.diocesidiroma.it/event/corso-di-formazione-permanente-per-lettori-e-accoliti-pontificio-istituto-liturgico-santanselmo-uff-form-liturgica/
CATEGORIES:In Diocesi,Iniziative degli Uffici
END:VEVENT
END:VCALENDAR