BEGIN:VCALENDAR
VERSION:2.0
PRODID:-//DIOCESI DI ROMA - ECPv4.6.14.1//NONSGML v1.0//EN
CALSCALE:GREGORIAN
METHOD:PUBLISH
X-WR-CALNAME:DIOCESI DI ROMA
X-ORIGINAL-URL:https://www.diocesidiroma.it
X-WR-CALDESC:Eventi per DIOCESI DI ROMA
BEGIN:VEVENT
DTSTART;TZID=Europe/Rome:20231019T100000
DTEND;TZID=Europe/Rome:20231019T113000
DTSTAMP:20260424T020301
CREATED:20231006T072311Z
LAST-MODIFIED:20231006T072311Z
UID:27471-1697709600-1697715000@www.diocesidiroma.it
SUMMARY:Corso di Liturgia per la Pastorale (anche via web) - Pontificio Istituto Liturgico Sant'Anselmo (Uff. form. liturgica)
DESCRIPTION:Corso di Liturgia per la Pastorale (anche via web) – Pontificio Istituto Liturgico Sant’Anselmo (Uff. form. liturgica) \n
URL:https://www.diocesidiroma.it/event/corso-di-liturgia-per-la-pastorale-anche-via-web-pontificio-istituto-liturgico-santanselmo-uff-form-liturgica/
CATEGORIES:In Diocesi,Iniziative degli Uffici
END:VEVENT
END:VCALENDAR