BEGIN:VCALENDAR
VERSION:2.0
PRODID:-//DIOCESI DI ROMA - ECPv4.6.14.1//NONSGML v1.0//EN
CALSCALE:GREGORIAN
METHOD:PUBLISH
X-WR-CALNAME:DIOCESI DI ROMA
X-ORIGINAL-URL:https://www.diocesidiroma.it
X-WR-CALDESC:Eventi per DIOCESI DI ROMA
BEGIN:VEVENT
DTSTART;TZID=Europe/Rome:20201001T000000
DTEND;TZID=Europe/Rome:20201001T000000
DTSTAMP:20260424T111534
CREATED:20200917T073344Z
LAST-MODIFIED:20200917T073344Z
UID:11635-1601510400-1601510400@www.diocesidiroma.it
SUMMARY:Corso "Domus Ecclesiae. Luoghi liturgici di Roma" modalità web
DESCRIPTION:Corso “Domus Ecclesiae. Luoghi liturgici di Roma” modalità web\, a cura dell’Ufficio liturgico diocesano. \n
URL:https://www.diocesidiroma.it/event/corso-domus-ecclesiae-luoghi-liturgici-di-roma-modalita-web/
CATEGORIES:Iniziative degli Uffici
END:VEVENT
END:VCALENDAR