BEGIN:VCALENDAR
VERSION:2.0
PRODID:-//DIOCESI DI ROMA - ECPv4.6.14.1//NONSGML v1.0//EN
CALSCALE:GREGORIAN
METHOD:PUBLISH
X-WR-CALNAME:DIOCESI DI ROMA
X-ORIGINAL-URL:https://www.diocesidiroma.it
X-WR-CALDESC:Eventi per DIOCESI DI ROMA
BEGIN:VEVENT
DTSTART;VALUE=DATE:20250920
DTEND;VALUE=DATE:20250922
DTSTAMP:20260424T071446
CREATED:20250910T102818Z
LAST-MODIFIED:20250910T102818Z
UID:36837-1758326400-1758499199@www.diocesidiroma.it
SUMMARY:Corso Educatori Sportivi  (Servizio per la pastorale dello sport)
DESCRIPTION:Corso Educatori Sportivi (Servizio per la pastorale dello sport) \n
URL:https://www.diocesidiroma.it/event/corso-educatori-sportivi-servizio-per-la-pastorale-dello-sport/
CATEGORIES:In Diocesi,Iniziative degli Uffici
END:VEVENT
END:VCALENDAR