BEGIN:VCALENDAR
VERSION:2.0
PRODID:-//DIOCESI DI ROMA - ECPv4.6.14.1//NONSGML v1.0//EN
CALSCALE:GREGORIAN
METHOD:PUBLISH
X-WR-CALNAME:DIOCESI DI ROMA
X-ORIGINAL-URL:https://www.diocesidiroma.it
X-WR-CALDESC:Eventi per DIOCESI DI ROMA
BEGIN:VEVENT
DTSTART;TZID=Europe/Rome:20231205T000000
DTEND;TZID=Europe/Rome:20231205T000000
DTSTAMP:20260422T001629
CREATED:20231115T094036Z
LAST-MODIFIED:20231115T094036Z
UID:27910-1701734400-1701734400@www.diocesidiroma.it
SUMMARY:Corso in preparazione al Giubileo "Roma vista da San Giovanni. Dalla fondazione al primo Giubileo" - primo anno (Uff. past. Universitaria)
DESCRIPTION:Corso in preparazione al Giubileo “Roma vista da San Giovanni. Dalla fondazione al primo Giubileo” – primo anno (Uff. past. Universitaria) \n
URL:https://www.diocesidiroma.it/event/corso-in-preparazione-al-giubileo-roma-vista-da-san-giovanni-dalla-fondazione-al-primo-giubileo-primo-anno-uff-past-universitaria/
CATEGORIES:In Diocesi,Iniziative degli Uffici
END:VEVENT
END:VCALENDAR