BEGIN:VCALENDAR
VERSION:2.0
PRODID:-//DIOCESI DI ROMA - ECPv4.6.14.1//NONSGML v1.0//EN
CALSCALE:GREGORIAN
METHOD:PUBLISH
X-WR-CALNAME:DIOCESI DI ROMA
X-ORIGINAL-URL:https://www.diocesidiroma.it
X-WR-CALDESC:Eventi per DIOCESI DI ROMA
BEGIN:VEVENT
DTSTART;TZID=Europe/Rome:20230307T100000
DTEND;TZID=Europe/Rome:20230307T130000
DTSTAMP:20260421T105737
CREATED:20230301T155209Z
LAST-MODIFIED:20230301T155209Z
UID:25488-1678183200-1678194000@www.diocesidiroma.it
SUMMARY:Corso online di formazione sui casi difficili di matrimonio (Uff. Matrimoni)
DESCRIPTION:Corso online di formazione sui casi difficili di matrimonio (Uff. Matrimoni) \n
URL:https://www.diocesidiroma.it/event/corso-online-di-formazione-sui-casi-difficili-di-matrimonio-uff-matrimoni/
CATEGORIES:In Diocesi,Iniziative degli Uffici
END:VEVENT
END:VCALENDAR