BEGIN:VCALENDAR
VERSION:2.0
PRODID:-//DIOCESI DI ROMA - ECPv4.6.14.1//NONSGML v1.0//EN
CALSCALE:GREGORIAN
METHOD:PUBLISH
X-WR-CALNAME:DIOCESI DI ROMA
X-ORIGINAL-URL:https://www.diocesidiroma.it
X-WR-CALDESC:Eventi per DIOCESI DI ROMA
BEGIN:VEVENT
DTSTART;TZID=Europe/Rome:20221024T100000
DTEND;TZID=Europe/Rome:20221024T130000
DTSTAMP:20260425T002227
CREATED:20221013T112007Z
LAST-MODIFIED:20221013T112007Z
UID:23349-1666605600-1666616400@www.diocesidiroma.it
SUMMARY:Corso online di formazione sulla pratica prematrimoniale (Uff. Matrimoni)
DESCRIPTION:Corso online di formazione sulla pratica prematrimoniale (Uff. Matrimoni) \n
URL:https://www.diocesidiroma.it/event/corso-online-di-formazione-sulla-pratica-prematrimoniale-uff-matrimoni/
CATEGORIES:In Diocesi,Iniziative degli Uffici
END:VEVENT
END:VCALENDAR