BEGIN:VCALENDAR
VERSION:2.0
PRODID:-//DIOCESI DI ROMA - ECPv4.6.14.1//NONSGML v1.0//EN
CALSCALE:GREGORIAN
METHOD:PUBLISH
X-WR-CALNAME:DIOCESI DI ROMA
X-ORIGINAL-URL:https://www.diocesidiroma.it
X-WR-CALDESC:Eventi per DIOCESI DI ROMA
BEGIN:VEVENT
DTSTART;TZID=Europe/Rome:20231111T000000
DTEND;TZID=Europe/Rome:20231111T000000
DTSTAMP:20260420T202149
CREATED:20231108T073002Z
LAST-MODIFIED:20231108T073002Z
UID:27823-1699660800-1699660800@www.diocesidiroma.it
SUMMARY:Corso per i medici in fibromialgia in collaborazione con l'ordine dei medici (Uff. Past. Sanitaria)
DESCRIPTION:Corso per i medici in fibromialgia in collaborazione con l’ordine dei medici (Uff. Past. Sanitaria) \n
URL:https://www.diocesidiroma.it/event/corso-per-i-medici-in-fibromialgia-in-collaborazione-con-lordine-dei-medici-uff-past-sanitaria/
CATEGORIES:In Diocesi,Iniziative degli Uffici
END:VEVENT
END:VCALENDAR