BEGIN:VCALENDAR
VERSION:2.0
PRODID:-//DIOCESI DI ROMA - ECPv4.6.14.1//NONSGML v1.0//EN
CALSCALE:GREGORIAN
METHOD:PUBLISH
X-WR-CALNAME:DIOCESI DI ROMA
X-ORIGINAL-URL:https://www.diocesidiroma.it
X-WR-CALDESC:Eventi per DIOCESI DI ROMA
BEGIN:VEVENT
DTSTART;TZID=Europe/Rome:20240201T000000
DTEND;TZID=Europe/Rome:20240201T000000
DTSTAMP:20260421T192422
CREATED:20240122T110302Z
LAST-MODIFIED:20240122T110302Z
UID:28585-1706745600-1706745600@www.diocesidiroma.it
SUMMARY:Corso per l'elaborazione del lutto: Mi manca (Uff. past. familiare)
DESCRIPTION:Corso per l’elaborazione del lutto: Mi manca (Uff. past. familiare) \n
URL:https://www.diocesidiroma.it/event/corso-per-lelaborazione-del-lutto-mi-manca-uff-past-familiare/
CATEGORIES:Iniziative degli Uffici
END:VEVENT
END:VCALENDAR