BEGIN:VCALENDAR
VERSION:2.0
PRODID:-//DIOCESI DI ROMA - ECPv4.6.14.1//NONSGML v1.0//EN
CALSCALE:GREGORIAN
METHOD:PUBLISH
X-WR-CALNAME:DIOCESI DI ROMA
X-ORIGINAL-URL:https://www.diocesidiroma.it
X-WR-CALDESC:Eventi per DIOCESI DI ROMA
BEGIN:VEVENT
DTSTART;TZID=Europe/Rome:20240307T000000
DTEND;TZID=Europe/Rome:20240307T000000
DTSTAMP:20260420T202709
CREATED:20240125T080450Z
LAST-MODIFIED:20240125T080450Z
UID:28656-1709769600-1709769600@www.diocesidiroma.it
SUMMARY:Corso per l'elaborazione del lutto: Un tempo per ascoltarsi (Uff. past. familiare)
DESCRIPTION: Corso per l’elaborazione del lutto: Un tempo per ascoltarsi (Uff. past. familiare) \n
URL:https://www.diocesidiroma.it/event/corso-per-lelaborazione-del-lutto-un-tempo-per-ascoltarsi-uff-past-familiare/
CATEGORIES:Iniziative degli Uffici
END:VEVENT
END:VCALENDAR