BEGIN:VCALENDAR
VERSION:2.0
PRODID:-//DIOCESI DI ROMA - ECPv4.6.14.1//NONSGML v1.0//EN
CALSCALE:GREGORIAN
METHOD:PUBLISH
X-WR-CALNAME:DIOCESI DI ROMA
X-ORIGINAL-URL:https://www.diocesidiroma.it
X-WR-CALDESC:Eventi per DIOCESI DI ROMA
BEGIN:VEVENT
DTSTART;TZID=Europe/Rome:20190327T000000
DTEND;TZID=Europe/Rome:20190327T000000
DTSTAMP:20260424T143006
CREATED:20181011T083056Z
LAST-MODIFIED:20181011T083056Z
UID:5039-1553644800-1553644800@www.diocesidiroma.it
SUMMARY:Corso per operatori culturali
DESCRIPTION:Corso per operatori culturali\, a cura del Servizio cultura e università. \n
URL:https://www.diocesidiroma.it/event/corso-per-operatori-culturali-5/
CATEGORIES:Iniziative degli Uffici
END:VEVENT
END:VCALENDAR