BEGIN:VCALENDAR
VERSION:2.0
PRODID:-//DIOCESI DI ROMA - ECPv4.6.14.1//NONSGML v1.0//EN
CALSCALE:GREGORIAN
METHOD:PUBLISH
X-WR-CALNAME:DIOCESI DI ROMA
X-ORIGINAL-URL:https://www.diocesidiroma.it
X-WR-CALDESC:Eventi per DIOCESI DI ROMA
BEGIN:VEVENT
DTSTART;TZID=Europe/Rome:20201001T000000
DTEND;TZID=Europe/Rome:20201001T000000
DTSTAMP:20260424T020437
CREATED:20200917T072611Z
LAST-MODIFIED:20200917T072921Z
UID:11631-1601510400-1601510400@www.diocesidiroma.it
SUMMARY:Corso per seminaristi e diaconi "Dalla teologia liturgica alla prassi celebrativa\, corso sull'ars celebrandi"
DESCRIPTION:Corso per seminaristi e diaconi “Dalla teologia liturgica alla prassi celebrativa\, corso sull’ars celebrandi”\,\, l’1\, il 2\, il 3 e il 6 ottobre\, a cura dell’Ufficio liturgico diocesano. \n
URL:https://www.diocesidiroma.it/event/corso-per-seminaristi-e-diaconi-dalla-teologia-liturgica-alla-prassi-celebrativa-corso-sullars-celebrandi-2/
CATEGORIES:Iniziative degli Uffici
END:VEVENT
END:VCALENDAR