BEGIN:VCALENDAR
VERSION:2.0
PRODID:-//DIOCESI DI ROMA - ECPv4.6.14.1//NONSGML v1.0//EN
CALSCALE:GREGORIAN
METHOD:PUBLISH
X-WR-CALNAME:DIOCESI DI ROMA
X-ORIGINAL-URL:https://www.diocesidiroma.it
X-WR-CALDESC:Eventi per DIOCESI DI ROMA
BEGIN:VEVENT
DTSTART;TZID=Europe/Rome:20191003T000000
DTEND;TZID=Europe/Rome:20191003T000000
DTSTAMP:20260422T141712
CREATED:20190916T083000Z
LAST-MODIFIED:20190916T083000Z
UID:8316-1570060800-1570060800@www.diocesidiroma.it
SUMMARY:Corso per seminaristi e diaconi "Dalla teologia liturgica alla prassi celebrativa. Corso sull'ars celebrandi"
DESCRIPTION: Corso per seminaristi e diaconi “Dalla teologia liturgica alla prassi celebrativa. Corso sull’ars celebrandi”\, a cura dell’Ufficio liturgico diocesano. \n
URL:https://www.diocesidiroma.it/event/corso-per-seminaristi-e-diaconi-dalla-teologia-liturgica-alla-prassi-celebrativa-corso-sullars-celebrandi/
CATEGORIES:Iniziative degli Uffici
END:VEVENT
END:VCALENDAR