BEGIN:VCALENDAR
VERSION:2.0
PRODID:-//DIOCESI DI ROMA - ECPv4.6.14.1//NONSGML v1.0//EN
CALSCALE:GREGORIAN
METHOD:PUBLISH
X-WR-CALNAME:DIOCESI DI ROMA
X-ORIGINAL-URL:https://www.diocesidiroma.it
X-WR-CALDESC:Eventi per DIOCESI DI ROMA
BEGIN:VEVENT
DTSTART;TZID=Europe/Rome:20201202T100000
DTEND;TZID=Europe/Rome:20201202T120000
DTSTAMP:20260424T222032
CREATED:20200923T162126Z
LAST-MODIFIED:20201110T171939Z
UID:11847-1606903200-1606910400@www.diocesidiroma.it
SUMMARY:Corso su Amoris Laetitia a cura dell'Ufficio catechistico
DESCRIPTION:Corso su “Amoris laetitia” a cura dell’Ufficio catechistico. \n
URL:https://www.diocesidiroma.it/event/corso-su-amoris-laetitia-in-vicariato-8/
CATEGORIES:Iniziative degli Uffici
END:VEVENT
END:VCALENDAR