BEGIN:VCALENDAR
VERSION:2.0
PRODID:-//DIOCESI DI ROMA - ECPv4.6.14.1//NONSGML v1.0//EN
CALSCALE:GREGORIAN
METHOD:PUBLISH
X-WR-CALNAME:DIOCESI DI ROMA
X-ORIGINAL-URL:https://www.diocesidiroma.it
X-WR-CALDESC:Eventi per DIOCESI DI ROMA
BEGIN:VEVENT
DTSTART;TZID=Europe/Rome:20201014T100000
DTEND;TZID=Europe/Rome:20201014T120000
DTSTAMP:20260420T233202
CREATED:20200917T081635Z
LAST-MODIFIED:20200917T081657Z
UID:11667-1602669600-1602676800@www.diocesidiroma.it
SUMMARY:Corso su "Amoris laetitia" in Vicariato
DESCRIPTION:Corso su “Amoris laetitia” in Vicariato\, a cura dell’Ufficio catechistico. \n
URL:https://www.diocesidiroma.it/event/corso-su-amoris-laetitia-in-vicariato/
CATEGORIES:Iniziative degli Uffici
END:VEVENT
END:VCALENDAR