BEGIN:VCALENDAR
VERSION:2.0
PRODID:-//DIOCESI DI ROMA - ECPv4.6.14.1//NONSGML v1.0//EN
CALSCALE:GREGORIAN
METHOD:PUBLISH
X-WR-CALNAME:DIOCESI DI ROMA
X-ORIGINAL-URL:https://www.diocesidiroma.it
X-WR-CALDESC:Eventi per DIOCESI DI ROMA
BEGIN:VEVENT
DTSTART;VALUE=DATE:20171001
DTEND;VALUE=DATE:20171002
DTSTAMP:20260425T030226
CREATED:20171228T112323Z
LAST-MODIFIED:20171228T112323Z
UID:322-1506816000-1506902399@www.diocesidiroma.it
SUMMARY:Corso su “Il ministero della presidenza e l’animazione liturgica” in modalità WEB
DESCRIPTION:
URL:https://www.diocesidiroma.it/event/corso-su-il-ministero-della-presidenza-e-lanimazione-liturgica-in-modalita-web/
CATEGORIES:Iniziative degli Uffici
END:VEVENT
END:VCALENDAR