BEGIN:VCALENDAR
VERSION:2.0
PRODID:-//DIOCESI DI ROMA - ECPv4.6.14.1//NONSGML v1.0//EN
CALSCALE:GREGORIAN
METHOD:PUBLISH
X-WR-CALNAME:DIOCESI DI ROMA
X-ORIGINAL-URL:https://www.diocesidiroma.it
X-WR-CALDESC:Eventi per DIOCESI DI ROMA
BEGIN:VEVENT
DTSTART;TZID=Europe/Rome:20231128T190000
DTEND;TZID=Europe/Rome:20231128T203000
DTSTAMP:20260423T182424
CREATED:20231006T093859Z
LAST-MODIFIED:20231006T093859Z
UID:27572-1701198000-1701203400@www.diocesidiroma.it
SUMMARY:Corso su "La Costituzione Sacrosanctum Concilium " (anche online ) - Pontificio Istituto Liturgico Sant'Anselmo (Uff. form. liturgica)
DESCRIPTION:Corso su “La Costituzione Sacrosanctum Concilium ” (anche online ) – Pontificio Istituto Liturgico Sant’Anselmo (Uff. form. liturgica) \n
URL:https://www.diocesidiroma.it/event/corso-su-la-costituzione-sacrosanctum-concilium-anche-online-pontificio-istituto-liturgico-santanselmo-uff-form-liturgica/
CATEGORIES:In Diocesi,Iniziative degli Uffici
END:VEVENT
END:VCALENDAR