BEGIN:VCALENDAR
VERSION:2.0
PRODID:-//DIOCESI DI ROMA - ECPv4.6.14.1//NONSGML v1.0//EN
CALSCALE:GREGORIAN
METHOD:PUBLISH
X-WR-CALNAME:DIOCESI DI ROMA
X-ORIGINAL-URL:https://www.diocesidiroma.it
X-WR-CALDESC:Eventi per DIOCESI DI ROMA
BEGIN:VEVENT
DTSTART;TZID=Europe/Rome:20231121T180000
DTEND;TZID=Europe/Rome:20231121T180000
DTSTAMP:20260422T174752
CREATED:20231108T073306Z
LAST-MODIFIED:20231108T073316Z
UID:27829-1700589600-1700589600@www.diocesidiroma.it
SUMMARY:Corso Un di più di speranza - 1° Modulo Il Fine vita (Uff. Past. Sanitaria)
DESCRIPTION:Corso Un di più di speranza – 1° Modulo Il Fine vita (Uff. Past. Sanitaria) \n
URL:https://www.diocesidiroma.it/event/corso-un-di-piu-di-speranza-1-modulo-il-fine-vita-uff-past-sanitaria/
CATEGORIES:In Diocesi,Iniziative degli Uffici
END:VEVENT
END:VCALENDAR