BEGIN:VCALENDAR
VERSION:2.0
PRODID:-//DIOCESI DI ROMA - ECPv4.6.14.1//NONSGML v1.0//EN
CALSCALE:GREGORIAN
METHOD:PUBLISH
X-WR-CALNAME:DIOCESI DI ROMA
X-ORIGINAL-URL:https://www.diocesidiroma.it
X-WR-CALDESC:Eventi per DIOCESI DI ROMA
BEGIN:VEVENT
DTSTART;TZID=Europe/Rome:20240220T180000
DTEND;TZID=Europe/Rome:20240220T180000
DTSTAMP:20260421T105737
CREATED:20240112T081905Z
LAST-MODIFIED:20240112T081905Z
UID:28444-1708452000-1708452000@www.diocesidiroma.it
SUMMARY:Corso un di più di Speranza  2° modulo “Il Disagio Mentale” Seminario Romano Maggiore -Sala Tiberiade  – (Uff. past. Sanitaria)
DESCRIPTION:Corso un di più di Speranza  2° modulo “Il Disagio Mentale” Seminario Romano Maggiore -Sala Tiberiade  – (Uff. past. Sanitaria) \n
URL:https://www.diocesidiroma.it/event/corso-un-di-piu-di-speranza-2-modulo-il-disagio-mentale-seminario-romano-maggiore-sala-tiberiade-uff-past-sanitaria-2/
CATEGORIES:Iniziative degli Uffici
END:VEVENT
END:VCALENDAR